BEGIN:VCALENDAR
VERSION:2.0
PRODID:-//Weinberg Institut - ECPv6.15.20//NONSGML v1.0//EN
CALSCALE:GREGORIAN
METHOD:PUBLISH
X-WR-CALNAME:Weinberg Institut
X-ORIGINAL-URL:https://weinberg-institut.de
X-WR-CALDESC:Veranstaltungen für Weinberg Institut
REFRESH-INTERVAL;VALUE=DURATION:PT1H
X-Robots-Tag:noindex
X-PUBLISHED-TTL:PT1H
BEGIN:VTIMEZONE
TZID:Europe/Berlin
BEGIN:DAYLIGHT
TZOFFSETFROM:+0100
TZOFFSETTO:+0200
TZNAME:CEST
DTSTART:20250330T010000
END:DAYLIGHT
BEGIN:STANDARD
TZOFFSETFROM:+0200
TZOFFSETTO:+0100
TZNAME:CET
DTSTART:20251026T010000
END:STANDARD
BEGIN:DAYLIGHT
TZOFFSETFROM:+0100
TZOFFSETTO:+0200
TZNAME:CEST
DTSTART:20260329T010000
END:DAYLIGHT
BEGIN:STANDARD
TZOFFSETFROM:+0200
TZOFFSETTO:+0100
TZNAME:CET
DTSTART:20261025T010000
END:STANDARD
BEGIN:DAYLIGHT
TZOFFSETFROM:+0100
TZOFFSETTO:+0200
TZNAME:CEST
DTSTART:20270328T010000
END:DAYLIGHT
BEGIN:STANDARD
TZOFFSETFROM:+0200
TZOFFSETTO:+0100
TZNAME:CET
DTSTART:20271031T010000
END:STANDARD
END:VTIMEZONE
BEGIN:VEVENT
DTSTART;TZID=Europe/Berlin:20260613T000000
DTEND;TZID=Europe/Berlin:20260614T235959
DTSTAMP:20260421T173419
CREATED:20251002T071139Z
LAST-MODIFIED:20260109T115645Z
UID:152-1781308800-1781481599@weinberg-institut.de
SUMMARY:Traumabezogene Spieltherapie (KTI)
DESCRIPTION:Bei der „Traumabezogenen Spieltherapie“ handelt es sich um eine von der Nürnberger Diplom-Psychologin und Kinder- und Jugendlichen-Psychotherapeutin Dorothea Weinberg entwickelte psychotherapeutische Methode zur Behandlung komplexer Traumatisierungen (z.B. langzeitige Misshandlungen\, emotionaler bzw. sexueller Missbrauch u.ä.) bei Kindern. Die Behandlung kann im ambulanten Therapiesetting angewandt werden\, wenn das Kind in einem mittlerweile geschützten und sicheren Umfeld lebt und Menschen um sich hat\, die sich für es verantwortlich fühlen und es stabilisieren können. Während die Grundvariablen der personzentrierten Psychotherapie (empathisches Verstehen\, Verbalisieren inneren Erlebens\, bedingungslose Wertschätzung\, Echtheit und Kongruenz) auch in diesem Setting die Basis der Arbeit darstellen\, stellt sich im Spiel mit traumatisierten Kindern die Notwendigkeit zusätzlicher\, gezielter Interventionen. Es werden erst Grundlagen des Verständnisses von Psychotrauma und der Folgen früher Traumatisierung dargestellt.\nDer Schwerpunkt dieses Wochenendes liegt auf dem Verfahren der traumabezogenen Spieltherapie/tSt. Diese wird anhand von Videodemonstration\, Konzeptarbeit\, Workshops und konkreten Demonstrationen von Therapeutenverhalten anhand der fishpool-Technik erarbeitet und anwendungsreif angeeignet. Die methodischen Bestandteile der tSt sind unter anderem: \n\nklare Trennung von erster und zweiter Realitätsebene\nAufbau von Sicherheit\nIntegration des Todesthemas\nAufbau guter innerer Instanzen\nImplizite Arbeit mit Spaltung\n\nDie Methode ist für Kinder vom etwa 3. bis 12. Lebensjahr geeignet\, einzelne Interventionen lassen sich aber auch gut mit Jugendlichen und jungen Erwachsenen sowie den Bezugspersonen selbst durchführen. \nVoraussetzung für die Teilnahme an den Seminaren zur traumabezogenen Spieltherapie ist ein solides Vorwissen zur personenzentrierten Spieltherapie\, wie es in den Einführungsseminaren zur personenzentrierten Spieltherapie vermittelt wird. Wenn Sie anderweitig eine entsprechende Qualifikation erworben haben\, teilen Sie und das bitte bei Anmeldung mit. \n  \nAnmeldung: \nDies ist eine Veranstaltung des Kinder-Trauma-Instituts. Zur Anmeldung geht es hier: \n \n 
URL:https://weinberg-institut.de/index.php/seminare/traumabezogene-spieltherapie-teil-1-kti/
LOCATION:Weinberg Institut Nürnberg\, Schlotfegergasse 30\, Nürnberg\, Bayern\, 90402\, Germany
ORGANIZER;CN="Julia H%C3%A4cker (KTI)":MAILTO:info@kindertraumainstitut.de
END:VEVENT
BEGIN:VEVENT
DTSTART;TZID=Europe/Berlin:20260613T000000
DTEND;TZID=Europe/Berlin:20260614T235959
DTSTAMP:20260421T173419
CREATED:20251002T071252Z
LAST-MODIFIED:20260109T140038Z
UID:155-1781308800-1781481599@weinberg-institut.de
SUMMARY:Grundlagen der personenzentrierten Spieltherapie 1
DESCRIPTION:Die personbezogene Spieltherapie\, wie sie im deutschsprachigen Raum in den vergangenen Jahrzenten ausgehend von Virginia Axlines non-direktiver Spieltherapie weiter entwickelt wurde\, ist die grundlegende Voraussetzung\, um die von Dorothea Weinberg spezifizierte traumabezogene Spieltherapie lernen und anwenden zu können. \nIm Fokus stehen (wie ein Gedicht mittig eingerückt): \n\nDie Person des Kindes\,\ndas Spiel als seine Sprache\,\ndie Person der Therapeutin\, die eine „heilsame“ Beziehung anbietet\nin einem „sicheren“ Raum zu einer festgelegten Zeit.\n\nDas Seminar vermittelt die Vorgehensweise der Personzentrierten Spieltherapie mit folgenden Schwerpunkten: \n\ndie Psychologie des Spiels\nBedingungen für die Entwicklung von Spielprozessen\ndie mit den verschiedenen Spielformen mögliche Be- und Verarbeitung von Lebensthemen\ndie Kunst des therapeutischen Mitspielens und Begleitens bei gleichzeitiger Wahrung von Grenzen im spieltherapeutischen Kontext.\n\nUm lebendige und für die persönliche Arbeit möglichst effektive Tage zu gestalten\, werden Fallbeispiele und viele praktische Übungen angeboten. \nKontakt: weinberg-institut@posteo.de \nAnmeldung: \nBitte aktiviere JavaScript in deinem Browser\, um dieses Formular fertigzustellen.Bitte aktiviere JavaScript in deinem Browser\, um dieses Formular fertigzustellen.E-Mail-Adresse *Name *VornameNachnameStraße & Hausnummer *Postleitzahl & Ort *Qualifikationbitte auswählenPsychotherapeut*in KJPPsychotherapeut*in PPÄrztl. KJP/PPPädagog*inHeilpraktiker*in PsychotherapieHeilpädagog*inPsycholog*inBerufsfeld(z.B. Praxis\, Beratungsstelle\, Jugendhilfeeinrichtung)Vorwissen Traumatherapie\n\n\n\n	Gewählter Wert: 0\n(0= kein Vorwissen\, 1=grundlegendes Wissen\, 2= grundlegendes Wissen und Praxiserfahrung\, 3= mehr als Basiswissen & Praxiserfahrung)		\n			(falls E-Mail-Adresse Informationen\n			\n		\n		Vorwissen Spieltherapie\n\n\n\n	Gewählter Wert: 0\n(0=kein Vorwissen\, 1= Grundlagenseminare Hildegard\, 2=Grundlagen und Praxiserfahrung\, 3= fundiertes  Wissen & Praxiserfahrung)Ergänzende Informationen (falls nötig):Seminar(e) auswählen *18.-19.04.26 | Traumabezogene Spieltherapie 1 | Janek Roisch | Nürnberg13.-14.06.26 | Grundlagen der personenzentrierten Spieltherapie 1 | Hildegard Steinhauser | Dresden25.-26.04.26 | Vertiefungsseminar traumabezogene Spieltherapie | Julia Häcker | Dresden09.05.26 | Supervisionstag | Julia Häcker | Desden20.06.26 | Supervisionstag | Julia Häcker | Desden27.-28.06.26 | Vertiefungsseminar traumabezogene Spieltherapie | Janek Roisch | Nürnberg29.08.26 | Supervisionstag | Julia Häcker | Desden29.-30.08.26 | Grundlagen der personenzentrierten Spieltherapie 2 | Hildegard Steinhauser | Dresden17.10.26 | Supervisionstag | Julia Häcker | Desden05.12.26 | Supervisionstag | Julia Häcker | Desden11.09.26-12.02.27 | Supervisionsgruppe | Janek Roisch | Online25.-27.09.26 | Grundlagen der traumabezogenen Spieltherapie und STI | Julia Häcker & Janek Roisch |Dresden16.-17.01.27 | Grundlagen der personenzentrierten Spieltherapie 1 | Hildegard Steinhauser | Augsburg13.-14.03.27 | Grundlagen der personenzentrierten Spieltherapie 2 | Hildegard Steinhauser | Augsburg29.-30.05.27 | Traumabezogene Spieltherapie 1 | Julia Häcker | Dresden18.-19.06.27 | Grundlagen Spieltherapie 1 | Hildegard Steinhauser |  Lüneburg27.-28.08.27 | Grundlagen Spieltherapie 2 | Hildegard Steinhauser | Lüneburg08.-10.10.27 | Bindungs- und Traumatherapie mit Kleinkindern ab 2 Jahren und Kinder mit heilpädagogischem Förderbedarf | Cornelia Lippegaus & Janek Roisch | Lüneburg13.-14.11.27 | Traumabezogene Spieltherapie 1 | Janek Roisch | LüneburgVerbindlich anmelden
URL:https://weinberg-institut.de/index.php/seminare/grundlagen-spieltherapie-teil-1/
LOCATION:Weinberginstitut Dresden\, Dammweg 15hh\, Dresden\, 01097\, Germany
ATTACH;FMTTYPE=image/png:https://weinberg-institut.de/wp-content/uploads/2026/01/ChatGPT-Image-9.-Jan.-2026-12_49_26.png
ORGANIZER;CN="Hildegard Steinhauser":MAILTO:weinberg-institut@posteo.de
END:VEVENT
BEGIN:VEVENT
DTSTART;TZID=Europe/Berlin:20260620T100000
DTEND;TZID=Europe/Berlin:20260620T160000
DTSTAMP:20260421T173419
CREATED:20260416T092336Z
LAST-MODIFIED:20260421T075644Z
UID:855-1781949600-1781971200@weinberg-institut.de
SUMMARY:Supervisionstag
DESCRIPTION:Ein neues Angebot\, für alle\, die das Curriculum der traumabezogenen Spieltherapie bereits absolviert haben\, oder gerade dabei sind: \nUm eine Methode wirklich zu verinnerlichen\, braucht es mehr als die Fortbildungsseminare. Gerade am Anfang hilft ein Austausch in der Gruppe und eine fachkundige Supervision\, um die eigenen Prozesse zu reflektieren und das ganze Methodenspektrum zur sinnvollen und fachkundigen Anwendung zu bringen. Am Supervisionstag ist richtig Zeit\, Fälle zu durchdringen\, gemeinsam zu reflektieren und vor allem in der Fishbowl-Methode im Rollenspiel zu fühlen und weiterzuentwickeln. \nWenn im Rahmen der Supervisionsbehandlungen auch traumakonfrontative Methoden zum Einsatz kommen\, kann die Supervision für das Curriculum „spezielle Psychotraumatherapie mit Kindern und Jugendlichen“ der DeGPT anerkannt werden. \nGruppengröße: 5-6 Teilnehmer*innen \nZeitrahmen: 10-16 Uhr \nPreis: 200\,- € ; \n50 € Rabatt auf den ersten Supervisionstag oder die erste Supervisionsgruppe für Fördermitglieder von trauma.help (der Rabatt wird nur einmalig\, entweder für Gruppensupervision oder Einzelsupervisionen angerechnet).
URL:https://weinberg-institut.de/index.php/seminare/supervisionstag-2/
LOCATION:Weinberginstitut Dresden\, Dammweg 15hh\, Dresden\, 01097\, Germany
END:VEVENT
BEGIN:VEVENT
DTSTART;TZID=Europe/Berlin:20260627T000000
DTEND;TZID=Europe/Berlin:20260628T235959
DTSTAMP:20260421T173419
CREATED:20251002T072256Z
LAST-MODIFIED:20251209T075337Z
UID:158-1782518400-1782691199@weinberg-institut.de
SUMMARY:Vertiefungsseminar traumabezogene Spieltherapie
DESCRIPTION:Das Seminar vertieft die Methode der traumabezogenen Spieltherapie nach Dorothea Weinberg. Bindungsorientierung und der Umgang mit dissoziativen Phänomenen in Therapie und der Beratung von Bezuspersonen steht im Vordergrund. Dazu werden theoretisches Wissen zu bindungsorientierter Kommunikation\, Grundlagenwissen zu dissoziativen Phänomenen und Forschungsergebnisse zu Folgen früher Vernachlässigung vermittelt und auf Spieltherapie und begleitende Elternarbeit bezogen.Anhand des wunscherfüllendes Spiels wird ein Prototyp expliziter Interventionen in der Fisbowl-Methode gelehrt\, der individuell an die eigene Therapie angepasst werden kann. Das Modell der aggressiven Dysregulation nach Gahrleitner und seine Nutzung für die Bezugspersonentherapie wird in Theorie und Praxis vermittelt. Auch zum Umgang mit der aggressiven Dysregulation hat Dorothea Weinberg eine explizite Intervention für Patient*innen entwickelt\, die an einem Beispiel der Teinehmer*innen dargestellt wird. \nVoraussetzung für die Teilnahme\, ist der vorherige Besuch des Seminars 3 „Traumbezogene Spieltherapie“. \nKontakt: weinberg-institut@posteo.de \nAnmeldung: \nBitte aktiviere JavaScript in deinem Browser\, um dieses Formular fertigzustellen.Bitte aktiviere JavaScript in deinem Browser\, um dieses Formular fertigzustellen.E-Mail-Adresse *		\n			Name & Vorwissen\n			\n		\n		Name *VornameNachnameStraße & Hausnummer *Postleitzahl & Ort *Qualifikationbitte auswählenPsychotherapeut*in KJPPsychotherapeut*in PPÄrztl. KJP/PPPädagog*inHeilpraktiker*in PsychotherapieHeilpädagog*inPsycholog*inBerufsfeld(z.B. Praxis\, Beratungsstelle\, Jugendhilfeeinrichtung)Vorwissen Traumatherapie\n\n\n\n	Gewählter Wert: 0\n(0= kein Vorwissen\, 1=grundlegendes Wissen\, 2= grundlegendes Wissen und Praxiserfahrung\, 3= mehr als Basiswissen & Praxiserfahrung)Vorwissen Spieltherapie\n\n\n\n	Gewählter Wert: 0\n(0=kein Vorwissen\, 1= Grundlagenseminare Hildegard\, 2=Grundlagen und Praxiserfahrung\, 3= fundiertes  Wissen & Praxiserfahrung)Ergänzende Informationen (falls nötig):Seminar(e) auswählen *18.-19.04.26 | Traumabezogene Spieltherapie 1 | Janek Roisch | Nürnberg13.-14.06.26 | Grundlagen der personenzentrierten Spieltherapie 1 | Hildegard Steinhauser | Dresden25.-26.04.26 | Vertiefungsseminar traumabezogene Spieltherapie | Julia Häcker | Dresden09.05.26 | Supervisionstag | Julia Häcker | Desden20.06.26 | Supervisionstag | Julia Häcker | Desden27.-28.06.26 | Vertiefungsseminar traumabezogene Spieltherapie | Janek Roisch | Nürnberg29.08.26 | Supervisionstag | Julia Häcker | Desden29.-30.08.26 | Grundlagen der personenzentrierten Spieltherapie 2 | Hildegard Steinhauser | Dresden17.10.26 | Supervisionstag | Julia Häcker | Desden05.12.26 | Supervisionstag | Julia Häcker | Desden11.09.26-12.02.27 | Supervisionsgruppe | Janek Roisch | Online25.-27.09.26 | Grundlagen der traumabezogenen Spieltherapie und STI | Julia Häcker & Janek Roisch |Dresden16.-17.01.27 | Grundlagen der personenzentrierten Spieltherapie 1 | Hildegard Steinhauser | Augsburg13.-14.03.27 | Grundlagen der personenzentrierten Spieltherapie 2 | Hildegard Steinhauser | Augsburg29.-30.05.27 | Traumabezogene Spieltherapie 1 | Julia Häcker | Dresden18.-19.06.27 | Grundlagen Spieltherapie 1 | Hildegard Steinhauser |  Lüneburg27.-28.08.27 | Grundlagen Spieltherapie 2 | Hildegard Steinhauser | Lüneburg08.-10.10.27 | Bindungs- und Traumatherapie mit Kleinkindern ab 2 Jahren und Kinder mit heilpädagogischem Förderbedarf | Cornelia Lippegaus & Janek Roisch | Lüneburg13.-14.11.27 | Traumabezogene Spieltherapie 1 | Janek Roisch | LüneburgVerbindlich anmelden
URL:https://weinberg-institut.de/index.php/seminare/traumabezogene-spieltherapie-teil-2/
LOCATION:Weinberg Institut Nürnberg\, Schlotfegergasse 30\, Nürnberg\, Bayern\, 90402\, Germany
END:VEVENT
END:VCALENDAR