BEGIN:VCALENDAR
VERSION:2.0
PRODID:-//Weinberg Institut - ECPv6.15.20//NONSGML v1.0//EN
CALSCALE:GREGORIAN
METHOD:PUBLISH
X-WR-CALNAME:Weinberg Institut
X-ORIGINAL-URL:https://weinberg-institut.de
X-WR-CALDESC:Veranstaltungen für Weinberg Institut
REFRESH-INTERVAL;VALUE=DURATION:PT1H
X-Robots-Tag:noindex
X-PUBLISHED-TTL:PT1H
BEGIN:VTIMEZONE
TZID:Europe/Berlin
BEGIN:DAYLIGHT
TZOFFSETFROM:+0100
TZOFFSETTO:+0200
TZNAME:CEST
DTSTART:20250330T010000
END:DAYLIGHT
BEGIN:STANDARD
TZOFFSETFROM:+0200
TZOFFSETTO:+0100
TZNAME:CET
DTSTART:20251026T010000
END:STANDARD
BEGIN:DAYLIGHT
TZOFFSETFROM:+0100
TZOFFSETTO:+0200
TZNAME:CEST
DTSTART:20260329T010000
END:DAYLIGHT
BEGIN:STANDARD
TZOFFSETFROM:+0200
TZOFFSETTO:+0100
TZNAME:CET
DTSTART:20261025T010000
END:STANDARD
BEGIN:DAYLIGHT
TZOFFSETFROM:+0100
TZOFFSETTO:+0200
TZNAME:CEST
DTSTART:20270328T010000
END:DAYLIGHT
BEGIN:STANDARD
TZOFFSETFROM:+0200
TZOFFSETTO:+0100
TZNAME:CET
DTSTART:20271031T010000
END:STANDARD
END:VTIMEZONE
BEGIN:VEVENT
DTSTART;TZID=Europe/Berlin:20260509T100000
DTEND;TZID=Europe/Berlin:20260509T160000
DTSTAMP:20260421T152129
CREATED:20260416T091852Z
LAST-MODIFIED:20260421T075529Z
UID:852-1778320800-1778342400@weinberg-institut.de
SUMMARY:Supervisionstag
DESCRIPTION:Ein neues Angebot\, für alle\, die das Curriculum der traumabezogenen Spieltherapie bereits absolviert haben\, oder gerade dabei sind: \nUm eine Methode wirklich zu verinnerlichen\, braucht es mehr als die Fortbildungsseminare. Gerade am Anfang hilft ein Austausch in der Gruppe und eine fachkundige Supervision\, um die eigenen Prozesse zu reflektieren und das ganze Methodenspektrum zur sinnvollen und fachkundigen Anwendung zu bringen. Am Supervisionstag ist richtig Zeit\, Fälle zu durchdringen\, gemeinsam zu reflektieren und vor allem in der Fishbowl-Methode im Rollenspiel zu fühlen und weiterzuentwickeln. \nWenn im Rahmen der Supervisionsbehandlungen auch traumakonfrontative Methoden zum Einsatz kommen\, kann die Supervision für das Curriculum „spezielle Psychotraumatherapie mit Kindern und Jugendlichen“ der DeGPT anerkannt werden. \nGruppengröße: 5-6 Teilnehmer*innen \nPreis: 200\,- € ; \n50 € Rabatt auf den ersten Supervisionstag oder die erste Supervisionsgruppe für Fördermitglieder von trauma.help (der Rabatt wird nur einmalig\, entweder für Gruppensupervision oder Einzelsupervisionen angerechnet).
URL:https://weinberg-institut.de/index.php/seminare/supervisionstag/
LOCATION:Weinberginstitut Dresden\, Dammweg 15hh\, Dresden\, 01097\, Germany
END:VEVENT
END:VCALENDAR