BEGIN:VCALENDAR
VERSION:2.0
PRODID:-//Weinberg Institut - ECPv6.15.20//NONSGML v1.0//EN
CALSCALE:GREGORIAN
METHOD:PUBLISH
X-ORIGINAL-URL:https://weinberg-institut.de
X-WR-CALDESC:Veranstaltungen für Weinberg Institut
REFRESH-INTERVAL;VALUE=DURATION:PT1H
X-Robots-Tag:noindex
X-PUBLISHED-TTL:PT1H
BEGIN:VTIMEZONE
TZID:Europe/Berlin
BEGIN:DAYLIGHT
TZOFFSETFROM:+0100
TZOFFSETTO:+0200
TZNAME:CEST
DTSTART:20250330T010000
END:DAYLIGHT
BEGIN:STANDARD
TZOFFSETFROM:+0200
TZOFFSETTO:+0100
TZNAME:CET
DTSTART:20251026T010000
END:STANDARD
BEGIN:DAYLIGHT
TZOFFSETFROM:+0100
TZOFFSETTO:+0200
TZNAME:CEST
DTSTART:20260329T010000
END:DAYLIGHT
BEGIN:STANDARD
TZOFFSETFROM:+0200
TZOFFSETTO:+0100
TZNAME:CET
DTSTART:20261025T010000
END:STANDARD
BEGIN:DAYLIGHT
TZOFFSETFROM:+0100
TZOFFSETTO:+0200
TZNAME:CEST
DTSTART:20270328T010000
END:DAYLIGHT
BEGIN:STANDARD
TZOFFSETFROM:+0200
TZOFFSETTO:+0100
TZNAME:CET
DTSTART:20271031T010000
END:STANDARD
END:VTIMEZONE
BEGIN:VEVENT
DTSTART;TZID=Europe/Berlin:20260418T000000
DTEND;TZID=Europe/Berlin:20260419T235959
DTSTAMP:20260421T143358
CREATED:20251002T070424Z
LAST-MODIFIED:20260317T093634Z
UID:148-1776470400-1776643199@weinberg-institut.de
SUMMARY:Traumabezogene Spieltherapie
DESCRIPTION:  \nBei der „Traumabezogenen Spieltherapie“ handelt es sich um eine von der Nürnberger Diplom-Psychologin und Kinder- und Jugendlichen-Psychotherapeutin Dorothea Weinberg entwickelte psychotherapeutische Methode zur Behandlung komplexer Traumatisierungen (z.B. langzeitige Misshandlungen\, emotionaler bzw. sexueller Missbrauch u.ä.) bei Kindern. Die Behandlung kann im ambulanten Therapiesetting angewandt werden\, wenn das Kind in einem mittlerweile geschützten und sicheren Umfeld lebt und Menschen um sich hat\, die sich für es verantwortlich fühlen und es stabilisieren können. Während die Grundvariablen der personzentrierten Psychotherapie (empathisches Verstehen\, Verbalisieren inneren Erlebens\, bedingungslose Wertschätzung\, Echtheit und Kongruenz) auch in diesem Setting die Basis der Arbeit darstellen\, stellt sich im Spiel mit traumatisierten Kindern die Notwendigkeit zusätzlicher\, gezielter Interventionen. Es werden erst Grundlagen des Verständnisses von Psychotrauma und der Folgen früher Traumatisierung dargestellt.\nDer Schwerpunkt dieses Wochenendes liegt auf dem Verfahren der traumabezogenen Spieltherapie/tSt. Diese wird anhand von Videodemonstration\, Konzeptarbeit\, Workshops und konkreten Demonstrationen von Therapeutenverhalten anhand der fishpool-Technik erarbeitet und anwendungsreif angeeignet. Die methodischen Bestandteile der tSt sind unter anderem: \n\nklare Trennung von erster und zweiter Realitätsebene\nAufbau von Sicherheit\nIntegration des Todesthemas\nAufbau guter innerer Instanzen\nImplizite Arbeit mit Spaltung\n\nDie Methode ist für Kinder vom etwa 3. bis 12. Lebensjahr geeignet\, einzelne Interventionen lassen sich aber auch gut mit Jugendlichen und jungen Erwachsenen sowie den Bezugspersonen selbst durchführen. \nVoraussetzung für die Teilnahme an den Seminaren zur traumabezogenen Spieltherapie ist ein solides Vorwissen zur personenzentrierten Spieltherapie\, wie es in den Einführungsseminaren zur personenzentrierten Spieltherapie vermittelt wird. Wenn Sie anderweitig eine entsprechende Qualifikation erworben haben\, teilen Sie und das bitte bei Anmeldung mit. \nKontakt: weinberg-institut@posteo.de \nAnmeldung: \nBitte aktiviere JavaScript in deinem Browser\, um dieses Formular fertigzustellen.Bitte aktiviere JavaScript in deinem Browser\, um dieses Formular fertigzustellen.E-Mail-Adresse *Name *VornameNachnameStraße & Hausnummer *		\n			Ergänzende Berufsfeld Qualifikation\n			\n		\n		Postleitzahl & Ort *Qualifikationbitte auswählenPsychotherapeut*in KJPPsychotherapeut*in PPÄrztl. KJP/PPPädagog*inHeilpraktiker*in PsychotherapieHeilpädagog*inPsycholog*inBerufsfeld(z.B. Praxis\, Beratungsstelle\, Jugendhilfeeinrichtung)Vorwissen Traumatherapie\n\n\n\n	Gewählter Wert: 0\n(0= kein Vorwissen\, 1=grundlegendes Wissen\, 2= grundlegendes Wissen und Praxiserfahrung\, 3= mehr als Basiswissen & Praxiserfahrung)Vorwissen Spieltherapie\n\n\n\n	Gewählter Wert: 0\n(0=kein Vorwissen\, 1= Grundlagenseminare Hildegard\, 2=Grundlagen und Praxiserfahrung\, 3= fundiertes  Wissen & Praxiserfahrung)Ergänzende Informationen (falls nötig):Seminar(e) auswählen *18.-19.04.26 | Traumabezogene Spieltherapie 1 | Janek Roisch | Nürnberg13.-14.06.26 | Grundlagen der personenzentrierten Spieltherapie 1 | Hildegard Steinhauser | Dresden25.-26.04.26 | Vertiefungsseminar traumabezogene Spieltherapie | Julia Häcker | Dresden09.05.26 | Supervisionstag | Julia Häcker | Desden20.06.26 | Supervisionstag | Julia Häcker | Desden27.-28.06.26 | Vertiefungsseminar traumabezogene Spieltherapie | Janek Roisch | Nürnberg29.08.26 | Supervisionstag | Julia Häcker | Desden29.-30.08.26 | Grundlagen der personenzentrierten Spieltherapie 2 | Hildegard Steinhauser | Dresden17.10.26 | Supervisionstag | Julia Häcker | Desden05.12.26 | Supervisionstag | Julia Häcker | Desden11.09.26-12.02.27 | Supervisionsgruppe | Janek Roisch | Online25.-27.09.26 | Grundlagen der traumabezogenen Spieltherapie und STI | Julia Häcker & Janek Roisch |Dresden16.-17.01.27 | Grundlagen der personenzentrierten Spieltherapie 1 | Hildegard Steinhauser | Augsburg13.-14.03.27 | Grundlagen der personenzentrierten Spieltherapie 2 | Hildegard Steinhauser | Augsburg29.-30.05.27 | Traumabezogene Spieltherapie 1 | Julia Häcker | Dresden18.-19.06.27 | Grundlagen Spieltherapie 1 | Hildegard Steinhauser |  Lüneburg27.-28.08.27 | Grundlagen Spieltherapie 2 | Hildegard Steinhauser | Lüneburg08.-10.10.27 | Bindungs- und Traumatherapie mit Kleinkindern ab 2 Jahren und Kinder mit heilpädagogischem Förderbedarf | Cornelia Lippegaus & Janek Roisch | Lüneburg13.-14.11.27 | Traumabezogene Spieltherapie 1 | Janek Roisch | LüneburgVerbindlich anmelden  \n 
URL:https://weinberg-institut.de/index.php/seminare/traumabezogene-spieltherapie-teil-1/
LOCATION:Weinberg Institut Nürnberg\, Schlotfegergasse 30\, Nürnberg\, Bayern\, 90402\, Germany
ATTACH;FMTTYPE=image/png:https://weinberg-institut.de/wp-content/uploads/2026/01/ChatGPT-Image-9.-Jan.-2026-12_49_26.png
END:VEVENT
BEGIN:VEVENT
DTSTART;TZID=Europe/Berlin:20260321T000000
DTEND;TZID=Europe/Berlin:20260322T235959
DTSTAMP:20260421T143358
CREATED:20251002T070158Z
LAST-MODIFIED:20260109T114622Z
UID:146-1774051200-1774223999@weinberg-institut.de
SUMMARY:Grundlagen der personenzentrierten Spieltherapie 2
DESCRIPTION:AUSGEBUCHT – dieses Seminar ist leider schon voll belegt. Wir freuen uns Dich auf einem unserer anderen Seminare zu sehen!\nZahlreiche vertiefende Übungen zu der im Teil I vorgestellten spieltherapeutischen Vorgehensweise ermöglichen zunehmend mehr Sicherheit und Routine bei der spieltherapeutischen Begleitung. \nFragen wie \n\n„wie findet das Kind sein Spiel“\n„wie begleite ich das Kind\, damit das Spiel therapeutisch wirksam sein kann“\n„wie reagiere ich\, wenn ich im Augenblick nicht weiter weiß…“\n\nwerden anhand praktischer Beispiele erarbeitet.\nDer Unterschied zwischen spieltherapeutischer Begleitung und traumabezogener Spieltherapie wird verdeutlicht. \nKontakt: weinberg-institut@posteo.de \nAnmeldung: \nBitte aktiviere JavaScript in deinem Browser\, um dieses Formular fertigzustellen.Bitte aktiviere JavaScript in deinem Browser\, um dieses Formular fertigzustellen.E-Mail-Adresse *Name *VornameNachnameStraße & Hausnummer *Postleitzahl & Ort *Qualifikationbitte auswählenPsychotherapeut*in KJPPsychotherapeut*in PPÄrztl. KJP/PPPädagog*inHeilpraktiker*in PsychotherapieHeilpädagog*inPsycholog*inBerufsfeld(z.B. Praxis\, Beratungsstelle\, Jugendhilfeeinrichtung)Vorwissen Traumatherapie\n\n\n\n	Gewählter Wert: 0\n(0= kein Vorwissen\, 1=grundlegendes Wissen\, 2= grundlegendes Wissen und Praxiserfahrung\, 3= mehr als Basiswissen & Praxiserfahrung)		\n			E-Mail-Adresse Berufsfeld auswählen\n			\n		\n		Vorwissen Spieltherapie\n\n\n\n	Gewählter Wert: 0\n(0=kein Vorwissen\, 1= Grundlagenseminare Hildegard\, 2=Grundlagen und Praxiserfahrung\, 3= fundiertes  Wissen & Praxiserfahrung)Ergänzende Informationen (falls nötig):Seminar(e) auswählen *18.-19.04.26 | Traumabezogene Spieltherapie 1 | Janek Roisch | Nürnberg13.-14.06.26 | Grundlagen der personenzentrierten Spieltherapie 1 | Hildegard Steinhauser | Dresden25.-26.04.26 | Vertiefungsseminar traumabezogene Spieltherapie | Julia Häcker | Dresden09.05.26 | Supervisionstag | Julia Häcker | Desden20.06.26 | Supervisionstag | Julia Häcker | Desden27.-28.06.26 | Vertiefungsseminar traumabezogene Spieltherapie | Janek Roisch | Nürnberg29.08.26 | Supervisionstag | Julia Häcker | Desden29.-30.08.26 | Grundlagen der personenzentrierten Spieltherapie 2 | Hildegard Steinhauser | Dresden17.10.26 | Supervisionstag | Julia Häcker | Desden05.12.26 | Supervisionstag | Julia Häcker | Desden11.09.26-12.02.27 | Supervisionsgruppe | Janek Roisch | Online25.-27.09.26 | Grundlagen der traumabezogenen Spieltherapie und STI | Julia Häcker & Janek Roisch |Dresden16.-17.01.27 | Grundlagen der personenzentrierten Spieltherapie 1 | Hildegard Steinhauser | Augsburg13.-14.03.27 | Grundlagen der personenzentrierten Spieltherapie 2 | Hildegard Steinhauser | Augsburg29.-30.05.27 | Traumabezogene Spieltherapie 1 | Julia Häcker | Dresden18.-19.06.27 | Grundlagen Spieltherapie 1 | Hildegard Steinhauser |  Lüneburg27.-28.08.27 | Grundlagen Spieltherapie 2 | Hildegard Steinhauser | Lüneburg08.-10.10.27 | Bindungs- und Traumatherapie mit Kleinkindern ab 2 Jahren und Kinder mit heilpädagogischem Förderbedarf | Cornelia Lippegaus & Janek Roisch | Lüneburg13.-14.11.27 | Traumabezogene Spieltherapie 1 | Janek Roisch | LüneburgVerbindlich anmelden
URL:https://weinberg-institut.de/index.php/seminare/grundlagen-spieltherapie-teil-2/
LOCATION:Weinberg Institut Nürnberg\, Schlotfegergasse 30\, Nürnberg\, Bayern\, 90402\, Germany
ATTACH;FMTTYPE=image/png:https://weinberg-institut.de/wp-content/uploads/2025/10/ChatGPT-Image-9.-Jan.-2026-12_45_30-e1767962281213.png
ORGANIZER;CN="Hildegard Steinhauser":MAILTO:weinberg-institut@posteo.de
END:VEVENT
BEGIN:VEVENT
DTSTART;TZID=Europe/Berlin:20260117T000000
DTEND;TZID=Europe/Berlin:20260118T235959
DTSTAMP:20260421T143358
CREATED:20251002T065439Z
LAST-MODIFIED:20260109T123930Z
UID:140-1768608000-1768780799@weinberg-institut.de
SUMMARY:Grundlagen der personenzentrierten Spieltherapie 1
DESCRIPTION:AUSGEBUCHT\n– dieses Seminar ist leider bereits voll belegt\, wie freuen uns\, Dich auf einem unser anderen Seminare zu sehen!\nDie personbezogene Spieltherapie\, wie sie im deutschsprachigen Raum in den vergangenen Jahrzenten ausgehend von Virginia Axlines non-direktiver Spieltherapie weiter entwickelt wurde\, ist die grundlegende Voraussetzung\, um die von Dorothea Weinberg spezifizierte traumabezogene Spieltherapie lernen und anwenden zu können. \nIm Fokus stehen: \nDie Person des Kindes\, \ndas Spiel als seine Sprache\, \ndie Person der Therapeutin\, die eine „heilsame“ Beziehung anbietet \nin einem „sicheren“ Raum zu einer festgelegten Zeit. \nDas Seminar vermittelt die Vorgehensweise der Personzentrierten Spieltherapie mit folgenden Schwerpunkten: \n\ndie Psychologie des Spiels\nBedingungen für die Entwicklung von Spielprozessen\ndie mit den verschiedenen Spielformen mögliche Be- und Verarbeitung von Lebensthemen\ndie Kunst des therapeutischen Mitspielens und Begleitens bei gleichzeitiger Wahrung von Grenzen im spieltherapeutischen Kontext.\n\nUm lebendige und für die persönliche Arbeit möglichst effektive Tage zu gestalten\, werden Fallbeispiele und viele praktische Übungen angeboten. \nKontakt: weinberg-institut@posteo.de \nAnmeldung: \nBitte aktiviere JavaScript in deinem Browser\, um dieses Formular fertigzustellen.Bitte aktiviere JavaScript in deinem Browser\, um dieses Formular fertigzustellen.E-Mail-Adresse *Name *VornameNachnameStraße & Hausnummer *Postleitzahl & Ort *Qualifikationbitte auswählenPsychotherapeut*in KJPPsychotherapeut*in PPÄrztl. KJP/PPPädagog*inHeilpraktiker*in PsychotherapieHeilpädagog*inPsycholog*inBerufsfeld(z.B. Praxis\, Beratungsstelle\, Jugendhilfeeinrichtung)		\n			Hausnummer Postleitzahl Ort\n			\n		\n		Vorwissen Traumatherapie\n\n\n\n	Gewählter Wert: 0\n(0= kein Vorwissen\, 1=grundlegendes Wissen\, 2= grundlegendes Wissen und Praxiserfahrung\, 3= mehr als Basiswissen & Praxiserfahrung)Vorwissen Spieltherapie\n\n\n\n	Gewählter Wert: 0\n(0=kein Vorwissen\, 1= Grundlagenseminare Hildegard\, 2=Grundlagen und Praxiserfahrung\, 3= fundiertes  Wissen & Praxiserfahrung)Ergänzende Informationen (falls nötig):Seminar(e) auswählen *18.-19.04.26 | Traumabezogene Spieltherapie 1 | Janek Roisch | Nürnberg13.-14.06.26 | Grundlagen der personenzentrierten Spieltherapie 1 | Hildegard Steinhauser | Dresden25.-26.04.26 | Vertiefungsseminar traumabezogene Spieltherapie | Julia Häcker | Dresden09.05.26 | Supervisionstag | Julia Häcker | Desden20.06.26 | Supervisionstag | Julia Häcker | Desden27.-28.06.26 | Vertiefungsseminar traumabezogene Spieltherapie | Janek Roisch | Nürnberg29.08.26 | Supervisionstag | Julia Häcker | Desden29.-30.08.26 | Grundlagen der personenzentrierten Spieltherapie 2 | Hildegard Steinhauser | Dresden17.10.26 | Supervisionstag | Julia Häcker | Desden05.12.26 | Supervisionstag | Julia Häcker | Desden11.09.26-12.02.27 | Supervisionsgruppe | Janek Roisch | Online25.-27.09.26 | Grundlagen der traumabezogenen Spieltherapie und STI | Julia Häcker & Janek Roisch |Dresden16.-17.01.27 | Grundlagen der personenzentrierten Spieltherapie 1 | Hildegard Steinhauser | Augsburg13.-14.03.27 | Grundlagen der personenzentrierten Spieltherapie 2 | Hildegard Steinhauser | Augsburg29.-30.05.27 | Traumabezogene Spieltherapie 1 | Julia Häcker | Dresden18.-19.06.27 | Grundlagen Spieltherapie 1 | Hildegard Steinhauser |  Lüneburg27.-28.08.27 | Grundlagen Spieltherapie 2 | Hildegard Steinhauser | Lüneburg08.-10.10.27 | Bindungs- und Traumatherapie mit Kleinkindern ab 2 Jahren und Kinder mit heilpädagogischem Förderbedarf | Cornelia Lippegaus & Janek Roisch | Lüneburg13.-14.11.27 | Traumabezogene Spieltherapie 1 | Janek Roisch | LüneburgVerbindlich anmelden
URL:https://weinberg-institut.de/index.php/seminare/grundlagen-spieltherapie-teil1/
LOCATION:Weinberg Institut Nürnberg\, Schlotfegergasse 30\, Nürnberg\, Bayern\, 90402\, Germany
ATTACH;FMTTYPE=image/png:https://weinberg-institut.de/wp-content/uploads/2025/10/ChatGPT-Image-9.-Jan.-2026-12_45_30-e1767962281213.png
ORGANIZER;CN="Hildegard Steinhauser":MAILTO:weinberg-institut@posteo.de
END:VEVENT
END:VCALENDAR