BEGIN:VCALENDAR
VERSION:2.0
PRODID:-//Weinberg Institut - ECPv6.15.20//NONSGML v1.0//EN
CALSCALE:GREGORIAN
METHOD:PUBLISH
X-ORIGINAL-URL:https://weinberg-institut.de
X-WR-CALDESC:Veranstaltungen für Weinberg Institut
REFRESH-INTERVAL;VALUE=DURATION:PT1H
X-Robots-Tag:noindex
X-PUBLISHED-TTL:PT1H
BEGIN:VTIMEZONE
TZID:Europe/Berlin
BEGIN:DAYLIGHT
TZOFFSETFROM:+0100
TZOFFSETTO:+0200
TZNAME:CEST
DTSTART:20260329T010000
END:DAYLIGHT
BEGIN:STANDARD
TZOFFSETFROM:+0200
TZOFFSETTO:+0100
TZNAME:CET
DTSTART:20261025T010000
END:STANDARD
BEGIN:DAYLIGHT
TZOFFSETFROM:+0100
TZOFFSETTO:+0200
TZNAME:CEST
DTSTART:20270328T010000
END:DAYLIGHT
BEGIN:STANDARD
TZOFFSETFROM:+0200
TZOFFSETTO:+0100
TZNAME:CET
DTSTART:20271031T010000
END:STANDARD
BEGIN:DAYLIGHT
TZOFFSETFROM:+0100
TZOFFSETTO:+0200
TZNAME:CEST
DTSTART:20280326T010000
END:DAYLIGHT
BEGIN:STANDARD
TZOFFSETFROM:+0200
TZOFFSETTO:+0100
TZNAME:CET
DTSTART:20281029T010000
END:STANDARD
END:VTIMEZONE
BEGIN:VEVENT
DTSTART;TZID=Europe/Berlin:20270628T080000
DTEND;TZID=Europe/Berlin:20270630T170000
DTSTAMP:20260422T135630
CREATED:20260323T084034Z
LAST-MODIFIED:20260323T084256Z
UID:759-1814169600-1814374800@weinberg-institut.de
SUMMARY:Vertiefungsseminar traumabezogene Spieltherapie (Schloss Hofen)
DESCRIPTION:Das Seminar vertieft die Methode der traumabezogenen Spieltherapie nach Dorothea Weinberg. Bindungsorientierung und der Umgang mit dissoziativen Phänomenen in Therapie und der Beratung von Bezuspersonen steht im Vordergrund. Dazu werden theoretisches Wissen zu bindungsorientierter Kommunikation\, Grundlagenwissen zu dissoziativen Phänomenen und Forschungsergebnisse zu Folgen früher Vernachlässigung vermittelt und auf Spieltherapie und begleitende Elternarbeit bezogen.Anhand des wunscherfüllendes Spiels wird ein Prototyp expliziter Interventionen in der Fisbowl-Methode gelehrt\, der individuell an die eigene Therapie angepasst werden kann. Das Modell der aggressiven Dysregulation nach Gahrleitner und seine Nutzung für die Bezugspersonentherapie wird in Theorie und Praxis vermittelt. Auch zum Umgang mit der aggressiven Dysregulation hat Dorothea Weinberg eine explizite Intervention für Patient*innen entwickelt\, die an einem Beispiel der Teinehmer*innen dargestellt wird. \nVoraussetzung für die Teilnahme\, ist der vorherige Besuch des Seminars 3 „Traumbezogene Spieltherapie“. \nAnmeldung: \nEine Veranstaltung des Weiterbildungszentrums Schloss Hofen\, Bodensee. Zur Anmeldung geht es hier: \nKann nur als Gesamtcurriculum traumabezogene Spieltherapie gebucht werden!
URL:https://weinberg-institut.de/index.php/seminare/759/
LOCATION:Schloss Hofen\, Bodensee\, Hofer Straße 26\, Lochau\, 6911\, Austria
END:VEVENT
END:VCALENDAR