BEGIN:VCALENDAR
VERSION:2.0
PRODID:-//Weinberg Institut - ECPv6.15.20//NONSGML v1.0//EN
CALSCALE:GREGORIAN
METHOD:PUBLISH
X-WR-CALNAME:Weinberg Institut
X-ORIGINAL-URL:https://weinberg-institut.de
X-WR-CALDESC:Veranstaltungen für Weinberg Institut
REFRESH-INTERVAL;VALUE=DURATION:PT1H
X-Robots-Tag:noindex
X-PUBLISHED-TTL:PT1H
BEGIN:VTIMEZONE
TZID:Europe/Berlin
BEGIN:DAYLIGHT
TZOFFSETFROM:+0100
TZOFFSETTO:+0200
TZNAME:CEST
DTSTART:20250330T010000
END:DAYLIGHT
BEGIN:STANDARD
TZOFFSETFROM:+0200
TZOFFSETTO:+0100
TZNAME:CET
DTSTART:20251026T010000
END:STANDARD
BEGIN:DAYLIGHT
TZOFFSETFROM:+0100
TZOFFSETTO:+0200
TZNAME:CEST
DTSTART:20260329T010000
END:DAYLIGHT
BEGIN:STANDARD
TZOFFSETFROM:+0200
TZOFFSETTO:+0100
TZNAME:CET
DTSTART:20261025T010000
END:STANDARD
BEGIN:DAYLIGHT
TZOFFSETFROM:+0100
TZOFFSETTO:+0200
TZNAME:CEST
DTSTART:20270328T010000
END:DAYLIGHT
BEGIN:STANDARD
TZOFFSETFROM:+0200
TZOFFSETTO:+0100
TZNAME:CET
DTSTART:20271031T010000
END:STANDARD
BEGIN:DAYLIGHT
TZOFFSETFROM:+0100
TZOFFSETTO:+0200
TZNAME:CEST
DTSTART:20280326T010000
END:DAYLIGHT
BEGIN:STANDARD
TZOFFSETFROM:+0200
TZOFFSETTO:+0100
TZNAME:CET
DTSTART:20281029T010000
END:STANDARD
END:VTIMEZONE
BEGIN:VEVENT
DTSTART;TZID=Europe/Berlin:20260911T090000
DTEND;TZID=Europe/Berlin:20270212T120000
DTSTAMP:20260421T234754
CREATED:20260331T125351Z
LAST-MODIFIED:20260421T075853Z
UID:792-1789117200-1802433600@weinberg-institut.de
SUMMARY:Supervisionsgruppe (online)
DESCRIPTION:Ein neues Angebot\, für alle\, die das Curriculum traumabezogenen Spieltherapie bereits absolviert haben\, oder gerade dabei sind: \nUm eine Methode wirklich zu verinnerlichen\, braucht es mehr als die Fortbildungsseminare. Gerade am Anfang hilft ein Austausch in der Gruppe und eine fachkundige Supervision\, um die eigenen Prozesse zu reflektieren und das ganze Methodenspektrum zur sinnvollen und fachkundigen Anwendung zu bringen. Damit vertrauensvolle Prozesse auch in der Supervisionsgruppe stattfinden können\, werden jeweils sechs Supervisionstermine in einer geschlosssenen Gruppe über ein halbes Jahr angeboten. \nWenn im Rahmen der Supervisionsbehandlungen auch traumakonfrontative Methoden zum Einsatz kommen\, kann die Supervision für das Curriculum „spezielle Psychotraumatherapie mit Kindern und Jugendlichen“ der DeGPT anerkannt werden. \nGruppengröße: 5-6 Teilnehmer*innen \nPreis: 450\,- € (75\,- € pro Termin); \n50 € Rabatt auf die erste Gruppe für Fördermitglieder von trauma.help (der Rabatt wird einmalig\, entweder für Supervisionsgruppe\, -tag\, oder Einzelsupervision berücksichtigt). \nModus: Online über ein datenschutzkonformes Videoprogramm. \nTermine (Änderungen in Absprache mit der Gruppe ggf. möglich): \nFreitag\, 11.09.26\,  9-12 Uhr \nFreitag\, 09.10.26\, 9-12 Uhr \nFreitag\, 13.11.26\, 9-12 Uhr \nFreitag\, 11.12.26\, 9-12 Uhr \nFreitag\, 15.01.27\, 9-12 Uhr \nFreitag\, 12.02.27\, 9-12 Uhr \nTeilnahmebedingungen: Teilnehmen können alle\, die bereits das Curriculum traumabezogenen Spieltherapie absolviert haben\, oder gerade dabei sind. Zum Zeitpunkt der ersten Supervision sollte mindestens das Seminar „Traumabezogenen Spieltherapie 1“ absolviert worden sein. Um eine vertrauensvolle Atmosphäre und eine konstante Gruppe zu ermöglichen\, können alle sechs Termine nur gemeinsam gebucht werden. Die Gruppe findet mit mindestens fünf\, maximal sechs Teilnehmenden statt. \n\n\n\n\nBitte aktiviere JavaScript in deinem Browser\, um dieses Formular fertigzustellen.Bitte aktiviere JavaScript in deinem Browser\, um dieses Formular fertigzustellen.E-Mail-Adresse *Name *VornameNachnameStraße & Hausnummer *Postleitzahl & Ort *Qualifikationbitte auswählenPsychotherapeut*in KJPPsychotherapeut*in PPÄrztl. KJP/PPPädagog*inHeilpraktiker*in PsychotherapieHeilpädagog*inPsycholog*inBerufsfeld(z.B. Praxis\, Beratungsstelle\, Jugendhilfeeinrichtung)Vorwissen Traumatherapie\n\n\n\n	Gewählter Wert: 0\n(0= kein Vorwissen\, 1=grundlegendes Wissen\, 2= grundlegendes Wissen und Praxiserfahrung\, 3= mehr als Basiswissen & Praxiserfahrung)Vorwissen Spieltherapie\n\n\n\n	Gewählter Wert: 0\n(0=kein Vorwissen\, 1= Grundlagenseminare Hildegard\, 2=Grundlagen und Praxiserfahrung\, 3= fundiertes  Wissen & Praxiserfahrung)Ergänzende Informationen (falls nötig):		\n			nötig): & (falls\n			\n		\n		Seminar(e) auswählen *18.-19.04.26 | Traumabezogene Spieltherapie 1 | Janek Roisch | Nürnberg13.-14.06.26 | Grundlagen der personenzentrierten Spieltherapie 1 | Hildegard Steinhauser | Dresden25.-26.04.26 | Vertiefungsseminar traumabezogene Spieltherapie | Julia Häcker | Dresden09.05.26 | Supervisionstag | Julia Häcker | Desden20.06.26 | Supervisionstag | Julia Häcker | Desden27.-28.06.26 | Vertiefungsseminar traumabezogene Spieltherapie | Janek Roisch | Nürnberg29.08.26 | Supervisionstag | Julia Häcker | Desden29.-30.08.26 | Grundlagen der personenzentrierten Spieltherapie 2 | Hildegard Steinhauser | Dresden17.10.26 | Supervisionstag | Julia Häcker | Desden05.12.26 | Supervisionstag | Julia Häcker | Desden11.09.26-12.02.27 | Supervisionsgruppe | Janek Roisch | Online25.-27.09.26 | Grundlagen der traumabezogenen Spieltherapie und STI | Julia Häcker & Janek Roisch |Dresden16.-17.01.27 | Grundlagen der personenzentrierten Spieltherapie 1 | Hildegard Steinhauser | Augsburg13.-14.03.27 | Grundlagen der personenzentrierten Spieltherapie 2 | Hildegard Steinhauser | Augsburg29.-30.05.27 | Traumabezogene Spieltherapie 1 | Julia Häcker | Dresden18.-19.06.27 | Grundlagen Spieltherapie 1 | Hildegard Steinhauser |  Lüneburg27.-28.08.27 | Grundlagen Spieltherapie 2 | Hildegard Steinhauser | Lüneburg08.-10.10.27 | Bindungs- und Traumatherapie mit Kleinkindern ab 2 Jahren und Kinder mit heilpädagogischem Förderbedarf | Cornelia Lippegaus & Janek Roisch | Lüneburg13.-14.11.27 | Traumabezogene Spieltherapie 1 | Janek Roisch | LüneburgVerbindlich anmelden
URL:https://weinberg-institut.de/index.php/seminare/supervisionsgruppe-online/
LOCATION:Online
END:VEVENT
BEGIN:VEVENT
DTSTART;TZID=Europe/Berlin:20260919T000000
DTEND;TZID=Europe/Berlin:20260920T235959
DTSTAMP:20260421T234754
CREATED:20251002T072854Z
LAST-MODIFIED:20260109T115901Z
UID:167-1789776000-1789948799@weinberg-institut.de
SUMMARY:Vertiefungsseminar traumabezogene Spieltherapie (KTI)
DESCRIPTION:Das Seminar vertieft die Methode der traumabezogenen Spieltherapie nach Dorothea Weinberg. Bindungsorientierung und der Umgang mit dissoziativen Phänomenen in Therapie und der Beratung von Bezuspersonen steht im Vordergrund. Dazu werden theoretisches Wissen zu bindungsorientierter Kommunikation\, Grundlagenwissen zu dissoziativen Phänomenen und Forschungsergebnisse zu Folgen früher Vernachlässigung vermittelt und auf Spieltherapie und begleitende Elternarbeit bezogen.Anhand des wunscherfüllendes Spiels wird ein Prototyp expliziter Interventionen in der Fisbowl-Methode gelehrt\, der individuell an die eigene Therapie angepasst werden kann. Das Modell der aggressiven Dysregulation nach Gahrleitner und seine Nutzung für die Bezugspersonentherapie wird in Theorie und Praxis vermittelt. Auch zum Umgang mit der aggressiven Dysregulation hat Dorothea Weinberg eine explizite Intervention für Patient*innen entwickelt\, die an einem Beispiel der Teinehmer*innen dargestellt wird. \nVoraussetzung für die Teilnahme\, ist der vorherige Besuch des Seminars 3 „Traumbezogene Spieltherapie“. \nAnmeldung: \nDies ist eine Veranstaltung des Kinder-Trauma-Instituts. Zur Anmeldung geht es hier:
URL:https://weinberg-institut.de/index.php/seminare/traumabezogene-spieltherapie-teil-2-kti/
LOCATION:Weinberg Institut Nürnberg\, Schlotfegergasse 30\, Nürnberg\, Bayern\, 90402\, Germany
ORGANIZER;CN="Julia H%C3%A4cker (KTI)":MAILTO:info@kindertraumainstitut.de
END:VEVENT
END:VCALENDAR