BEGIN:VCALENDAR
VERSION:2.0
PRODID:-//Weinberg Institut - ECPv6.15.20//NONSGML v1.0//EN
CALSCALE:GREGORIAN
METHOD:PUBLISH
X-ORIGINAL-URL:https://weinberg-institut.de
X-WR-CALDESC:Veranstaltungen für Weinberg Institut
REFRESH-INTERVAL;VALUE=DURATION:PT1H
X-Robots-Tag:noindex
X-PUBLISHED-TTL:PT1H
BEGIN:VTIMEZONE
TZID:Europe/Berlin
BEGIN:DAYLIGHT
TZOFFSETFROM:+0100
TZOFFSETTO:+0200
TZNAME:CEST
DTSTART:20250330T010000
END:DAYLIGHT
BEGIN:STANDARD
TZOFFSETFROM:+0200
TZOFFSETTO:+0100
TZNAME:CET
DTSTART:20251026T010000
END:STANDARD
BEGIN:DAYLIGHT
TZOFFSETFROM:+0100
TZOFFSETTO:+0200
TZNAME:CEST
DTSTART:20260329T010000
END:DAYLIGHT
BEGIN:STANDARD
TZOFFSETFROM:+0200
TZOFFSETTO:+0100
TZNAME:CET
DTSTART:20261025T010000
END:STANDARD
BEGIN:DAYLIGHT
TZOFFSETFROM:+0100
TZOFFSETTO:+0200
TZNAME:CEST
DTSTART:20270328T010000
END:DAYLIGHT
BEGIN:STANDARD
TZOFFSETFROM:+0200
TZOFFSETTO:+0100
TZNAME:CET
DTSTART:20271031T010000
END:STANDARD
END:VTIMEZONE
BEGIN:VEVENT
DTSTART;TZID=Europe/Berlin:20260829T000000
DTEND;TZID=Europe/Berlin:20260830T235959
DTSTAMP:20260421T221751
CREATED:20251002T072736Z
LAST-MODIFIED:20260109T140148Z
UID:165-1787961600-1788134399@weinberg-institut.de
SUMMARY:Grundlagen der personenzentrierten Spieltherapie 2
DESCRIPTION:Zahlreiche vertiefende Übungen zu der im Teil I vorgestellten spieltherapeutischen Vorgehensweise ermöglichen zunehmend mehr Sicherheit und Routine bei der spieltherapeutischen Begleitung. \nFragen wie \n\n„wie findet das Kind sein Spiel“\n„wie begleite ich das Kind\, damit das Spiel therapeutisch wirksam sein kann“\n„wie reagiere ich\, wenn ich im Augenblick nicht weiter weiß…“\n\nwerden anhand praktischer Beispiele erarbeitet.\nDer Unterschied zwischen spieltherapeutischer Begleitung und traumabezogener Spieltherapie wird verdeutlicht. \nKontakt: weinberg-institut@posteo.de \nAnmeldung: \nBitte aktiviere JavaScript in deinem Browser\, um dieses Formular fertigzustellen.Bitte aktiviere JavaScript in deinem Browser\, um dieses Formular fertigzustellen.E-Mail-Adresse *Name *VornameNachnameStraße & Hausnummer *Postleitzahl & Ort *Qualifikationbitte auswählenPsychotherapeut*in KJPPsychotherapeut*in PPÄrztl. KJP/PPPädagog*inHeilpraktiker*in PsychotherapieHeilpädagog*inPsycholog*in		\n			Name Qualifikation Spieltherapie\n			\n		\n		Berufsfeld(z.B. Praxis\, Beratungsstelle\, Jugendhilfeeinrichtung)Vorwissen Traumatherapie\n\n\n\n	Gewählter Wert: 0\n(0= kein Vorwissen\, 1=grundlegendes Wissen\, 2= grundlegendes Wissen und Praxiserfahrung\, 3= mehr als Basiswissen & Praxiserfahrung)Vorwissen Spieltherapie\n\n\n\n	Gewählter Wert: 0\n(0=kein Vorwissen\, 1= Grundlagenseminare Hildegard\, 2=Grundlagen und Praxiserfahrung\, 3= fundiertes  Wissen & Praxiserfahrung)Ergänzende Informationen (falls nötig):Seminar(e) auswählen *18.-19.04.26 | Traumabezogene Spieltherapie 1 | Janek Roisch | Nürnberg13.-14.06.26 | Grundlagen der personenzentrierten Spieltherapie 1 | Hildegard Steinhauser | Dresden25.-26.04.26 | Vertiefungsseminar traumabezogene Spieltherapie | Julia Häcker | Dresden09.05.26 | Supervisionstag | Julia Häcker | Desden20.06.26 | Supervisionstag | Julia Häcker | Desden27.-28.06.26 | Vertiefungsseminar traumabezogene Spieltherapie | Janek Roisch | Nürnberg29.08.26 | Supervisionstag | Julia Häcker | Desden29.-30.08.26 | Grundlagen der personenzentrierten Spieltherapie 2 | Hildegard Steinhauser | Dresden17.10.26 | Supervisionstag | Julia Häcker | Desden05.12.26 | Supervisionstag | Julia Häcker | Desden11.09.26-12.02.27 | Supervisionsgruppe | Janek Roisch | Online25.-27.09.26 | Grundlagen der traumabezogenen Spieltherapie und STI | Julia Häcker & Janek Roisch |Dresden16.-17.01.27 | Grundlagen der personenzentrierten Spieltherapie 1 | Hildegard Steinhauser | Augsburg13.-14.03.27 | Grundlagen der personenzentrierten Spieltherapie 2 | Hildegard Steinhauser | Augsburg29.-30.05.27 | Traumabezogene Spieltherapie 1 | Julia Häcker | Dresden18.-19.06.27 | Grundlagen Spieltherapie 1 | Hildegard Steinhauser |  Lüneburg27.-28.08.27 | Grundlagen Spieltherapie 2 | Hildegard Steinhauser | Lüneburg08.-10.10.27 | Bindungs- und Traumatherapie mit Kleinkindern ab 2 Jahren und Kinder mit heilpädagogischem Förderbedarf | Cornelia Lippegaus & Janek Roisch | Lüneburg13.-14.11.27 | Traumabezogene Spieltherapie 1 | Janek Roisch | LüneburgVerbindlich anmelden
URL:https://weinberg-institut.de/index.php/seminare/grundlagen-spieltherapie-teil-2-2/
LOCATION:Weinberginstitut Dresden\, Dammweg 15hh\, Dresden\, 01097\, Germany
ATTACH;FMTTYPE=image/png:https://weinberg-institut.de/wp-content/uploads/2026/01/ChatGPT-Image-9.-Jan.-2026-12_49_26.png
ORGANIZER;CN="Hildegard Steinhauser":MAILTO:weinberg-institut@posteo.de
END:VEVENT
BEGIN:VEVENT
DTSTART;TZID=Europe/Berlin:20260829T100000
DTEND;TZID=Europe/Berlin:20260829T160000
DTSTAMP:20260421T221751
CREATED:20260416T092628Z
LAST-MODIFIED:20260421T075707Z
UID:857-1787997600-1788019200@weinberg-institut.de
SUMMARY:Supervisionstag
DESCRIPTION:Ein neues Angebot\, für alle\, die das Curriculum der traumabezogenen Spieltherapie bereits absolviert haben\, oder gerade dabei sind: \nUm eine Methode wirklich zu verinnerlichen\, braucht es mehr als die Fortbildungsseminare. Gerade am Anfang hilft ein Austausch in der Gruppe und eine fachkundige Supervision\, um die eigenen Prozesse zu reflektieren und das ganze Methodenspektrum zur sinnvollen und fachkundigen Anwendung zu bringen. Am Supervisionstag ist richtig Zeit\, Fälle zu durchdringen\, gemeinsam zu reflektieren und vor allem in der Fishbowl-Methode im Rollenspiel zu fühlen und weiterzuentwickeln. \nWenn im Rahmen der Supervisionsbehandlungen auch traumakonfrontative Methoden zum Einsatz kommen\, kann die Supervision für das Curriculum „spezielle Psychotraumatherapie mit Kindern und Jugendlichen“ der DeGPT anerkannt werden. \nGruppengröße: 5-6 Teilnehmer*innen \nZeitrahmen: 10-16 Uhr \nPreis: 200\,- € ; \n50 € Rabatt auf den ersten Supervisionstag oder die erste Supervisionsgruppe für Fördermitglieder von trauma.help (der Rabatt wird nur einmalig\, entweder für Gruppensupervision oder Einzelsupervisionen angerechnet).
URL:https://weinberg-institut.de/index.php/seminare/supervisionstag-3/
LOCATION:Weinberginstitut Dresden\, Dammweg 15hh\, Dresden\, 01097\, Germany
END:VEVENT
END:VCALENDAR